Workbook
Name Slicer_jmonthT: #N/A
Name Slicer_jyear: #N/A
Name Slicer_گروه_کالا: #N/A

Sheet راهنما
A1: راهنمای استفاده
A3: موضوع | B3: توضیح
A4: ورودی | B4: کاربر فقط جدول Data را تکمیل می‌کند. تاریخ باید شمسی با فرمت 1405/05/30 باشد.
A5: Power Query | B5: آپدیت شدن اتوماتیک ،پس از ست شدن کوئری ها امکان پذیر است. ( در خصوص آپدیت ، پس از دانلود این فایل ، از تب دیتا، گزینه Queries & connections را بزنید، وارد محیط کوئری بشوید ، در آنجا ، از طریق Source ، مسیریابی مجدد انجام دهید. ( در صورت نیاز به آموزش تصویری ، ویدیو آن را مشاهده کنید )
A6: تبدیل تاریخ | B6: Query SalesBase تاریخ شمسی Data را به جدول DimDate متصل می‌کند و Miladi/Year/Month/Season را می‌سازد.
A7: گزارش‌ها | B7: تحلیل فروش، مشتریان، کالا، RFM و ABC بر اساس همان داده خام طراحی شده‌اند.
A8: داشبورد | B8: گزارش های داشبورد نمونه ای از گزارشات حرفه ای و مدیریتی مهم هستند.
A9: Refresh | B9: پس از آدرس دهی در کوئری ، کافیست از تب Data، گزینه Refresh all را بزنید.

Sheet DimDate
A1: جدول تبدیل تاریخ شمسی / میلادی
A3: Miladi | B3: Jalali_1 | C3: Jalali_2 | D3: Jalali_4 | E3: Miladi2 | F3: jyear | G3: mmonthN | H3: jmonthN | I3: mmonthT | J3: jmonthF | K3: jmonthT | L3: mnime | M3: jnime | N3: JquarterN | O3: JQuarterT | P3: MquarterN | Q3: JWeekDay | R3: MWeekDay | S3: MWeekNum | T3: JWeekNum
A4: 45371 | B4: 1403/01/01 | C4: 1403/1/1 | D4: 1403.01.1 | E4: 45371 | F4: 1403 | G4: 3 | H4: 1 | I4: March | J4: Farvardin | K4: فروردین | L4: First Half of Year | M4: نیمه اول سال | N4: 1 | O4: بهار | P4: 1 | Q4: چهارشنبه | R4: Wednesday | S4: 12 | T4: 1
A5: 45372 | B5: 1403/01/02 | C5: 1403/1/2 | D5: 1403.01.2 | E5: 45372 | F5: 1403 | G5: 3 | H5: 1 | I5: March | J5: Farvardin | K5: فروردین | L5: First Half of Year | M5: نیمه اول سال | N5: 1 | O5: بهار | P5: 1 | Q5: پنج شنبه | R5: Thursday | S5: 12 | T5: 1
A6: 45373 | B6: 1403/01/03 | C6: 1403/1/3 | D6: 1403.01.3 | E6: 45373 | F6: 1403 | G6: 3 | H6: 1 | I6: March | J6: Farvardin | K6: فروردین | L6: First Half of Year | M6: نیمه اول سال | N6: 1 | O6: بهار | P6: 1 | Q6: جمعه | R6: Friday | S6: 12 | T6: 1
A7: 45374 | B7: 1403/01/04 | C7: 1403/1/4 | D7: 1403.01.4 | E7: 45374 | F7: 1403 | G7: 3 | H7: 1 | I7: March | J7: Farvardin | K7: فروردین | L7: First Half of Year | M7: نیمه اول سال | N7: 1 | O7: بهار | P7: 1 | Q7: شنبه | R7: Saturday | S7: 12 | T7: 2
A8: 45375 | B8: 1403/01/05 | C8: 1403/1/5 | D8: 1403.01.5 | E8: 45375 | F8: 1403 | G8: 3 | H8: 1 | I8: March | J8: Farvardin | K8: فروردین | L8: First Half of Year | M8: نیمه اول سال | N8: 1 | O8: بهار | P8: 1 | Q8: یکشنبه | R8: Sunday | S8: 13 | T8: 2
A9: 45376 | B9: 1403/01/06 | C9: 1403/1/6 | D9: 1403.01.6 | E9: 45376 | F9: 1403 | G9: 3 | H9: 1 | I9: March | J9: Farvardin | K9: فروردین | L9: First Half of Year | M9: نیمه اول سال | N9: 1 | O9: بهار | P9: 1 | Q9: دوشنبه | R9: Monday | S9: 13 | T9: 2
A10: 45377 | B10: 1403/01/07 | C10: 1403/1/7 | D10: 1403.01.7 | E10: 45377 | F10: 1403 | G10: 3 | H10: 1 | I10: March | J10: Farvardin | K10: فروردین | L10: First Half of Year | M10: نیمه اول سال | N10: 1 | O10: بهار | P10: 1 | Q10: سه شنبه | R10: Tuesday | S10: 13 | T10: 2
A11: 45378 | B11: 1403/01/08 | C11: 1403/1/8 | D11: 1403.01.8 | E11: 45378 | F11: 1403 | G11: 3 | H11: 1 | I11: March | J11: Farvardin | K11: فروردین | L11: First Half of Year | M11: نیمه اول سال | N11: 1 | O11: بهار | P11: 1 | Q11: چهارشنبه | R11: Wednesday | S11: 13 | T11: 2
A12: 45379 | B12: 1403/01/09 | C12: 1403/1/9 | D12: 1403.01.9 | E12: 45379 | F12: 1403 | G12: 3 | H12: 1 | I12: March | J12: Farvardin | K12: فروردین | L12: First Half of Year | M12: نیمه اول سال | N12: 1 | O12: بهار | P12: 1 | Q12: پنج شنبه | R12: Thursday | S12: 13 | T12: 2
A13: 45380 | B13: 1403/01/10 | C13: 1403/1/10 | D13: 1403.01.10 | E13: 45380 | F13: 1403 | G13: 3 | H13: 1 | I13: March | J13: Farvardin | K13: فروردین | L13: First Half of Year | M13: نیمه اول سال | N13: 1 | O13: بهار | P13: 1 | Q13: جمعه | R13: Friday | S13: 13 | T13: 2
A14: 45381 | B14: 1403/01/11 | C14: 1403/1/11 | D14: 1403.01.11 | E14: 45381 | F14: 1403 | G14: 3 | H14: 1 | I14: March | J14: Farvardin | K14: فروردین | L14: First Half of Year | M14: نیمه اول سال | N14: 1 | O14: بهار | P14: 1 | Q14: شنبه | R14: Saturday | S14: 13 | T14: 3
A15: 45382 | B15: 1403/01/12 | C15: 1403/1/12 | D15: 1403.01.12 | E15: 45382 | F15: 1403 | G15: 3 | H15: 1 | I15: March | J15: Farvardin | K15: فروردین | L15: First Half of Year | M15: نیمه اول سال | N15: 1 | O15: بهار | P15: 1 | Q15: یکشنبه | R15: Sunday | S15: 14 | T15: 3
... A2195: 47562 | B2195: 1408/12/30 | C2195: 1408/12/30 | D2195: 1408.12.30 | E2195: 47562 | F2195: 1408 | G2195: 3 | H2195: 12 | I2195: March | J2195: Esfand | K2195: اسفند | L2195: First Half of Year | M2195: نیمه دوم سال | N2195: 4 | O2195: زمستان | P2195: 1 | Q2195: چهارشنبه | R2195: Wednesday | S2195: 12 | T2195: 53

Sheet Target
A1: هدف فروش ماهانه شمسی
A3: Year | B3: MonthN | C3: ماه | D3: هدف فروش
A4: 1404 | B4: 07 | C4: مهر | D4: 1768745000
A5: 1404 | B5: 08 | C5: آبان | D5: 1956596200
A6: 1404 | B6: 09 | C6: آذر | D6: 1774500000
A7: 1404 | B7: 10 | C7: دی | D7: 1739087000
A8: 1404 | B8: 11 | C8: بهمن | D8: 1229287100
A9: 1404 | B9: 12 | C9: اسفند | D9: 1531467900
A10: 1405 | B10: 01 | C10: فروردین | D10: 1274712400
A11: 1405 | B11: 02 | C11: اردیبهشت | D11: 1533990700
A12: 1405 | B12: 03 | C12: خرداد | D12: 1659146200
A13: 1405 | B13: 04 | C13: تیر | D13: 1388671000
A14: 1405 | B14: 05 | C14: مرداد | D14: 1452764600
A15: 1405 | B15: 06 | C15: شهریور | D15: 1563181600

Sheet Data
A1: ورودی خام فروش — تاریخ شمسی
A3: تاریخ | B3: شماره فاکتور | C3: کد کالا | D3: نام کالا | E3: گروه کالا | F3: کد مشتری | G3: نام مشتری | H3: تعداد | I3: خالص ریالی | J3: بهای تمام‌شده
A4: 1405/01/27 | B4: F000001 | C4: 100001018 | D4: ترموستات | E4: خنک کاری | F4: 20000111 | G4: نمایندگی کرمان | H4: 6 | I4: 6618600 | J4: 5395000
A5: 1405/06/01 | B5: F000002 | C5: 100001013 | D5: تسمه دینام | E5: موتور | F5: 20000133 | G5: فروشگاه قطعات 18 | H5: 10 | I5: 10042000 | J5: 7671200
A6: 1405/06/01 | B6: F000002 | C6: 100001003 | D6: فیلتر سوخت | E6: فیلترها | F6: 20000133 | G6: فروشگاه قطعات 18 | H6: 2 | I6: 583400 | J6: 449700
A7: 1404/11/25 | B7: F000003 | C7: 100001009 | D7: کمک فنر جلو | E7: تعلیق و فرمان | F7: 20000173 | G7: فروشگاه قطعات 58 | H7: 3 | I7: 15408000 | J7: 13266000
A8: 1405/03/19 | B8: F000004 | C8: 100001011 | D8: سیبک فرمان | E8: تعلیق و فرمان | F8: 20000104 | G8: نمایندگی شیراز | H8: 6 | I8: 8016600 | J8: 5518500
A9: 1405/03/19 | B9: F000004 | C9: 100001026 | D9: سپر جلو | E9: بدنه | F9: 20000104 | G9: نمایندگی شیراز | H9: 4 | I9: 32850800 | J9: 26515200
A10: 1405/06/29 | B10: F000005 | C10: 100001008 | D10: دیسک ترمز عقب | E10: ترمز | F10: 20000157 | G10: فروشگاه قطعات 42 | H10: 1 | I10: 3617400 | J10: 2769900
A11: 1405/06/29 | B11: F000005 | C11: 100001007 | D11: دیسک ترمز جلو | E11: ترمز | F11: 20000157 | G11: فروشگاه قطعات 42 | H11: 11 | I11: 45501500 | J11: 38287100
A12: 1405/06/29 | B12: F000005 | C12: 100001020 | D12: انژکتور | E12: موتور | F12: 20000157 | G12: فروشگاه قطعات 42 | H12: 6 | I12: 28911000 | J12: 22951000
A13: 1405/02/19 | B13: F000006 | C13: 100001025 | D13: آینه بغل | E13: بدنه | F13: 20000172 | G13: فروشگاه قطعات 57 | H13: 5 | I13: 15254500 | J13: 12830500
A14: 1405/02/19 | B14: F000006 | C14: 100001024 | D14: چراغ عقب | E14: بدنه | F14: 20000172 | G14: فروشگاه قطعات 57 | H14: 2 | I14: 8698600 | J14: 6228700
A15: 1405/02/19 | B15: F000006 | C15: 100001021 | D15: دینام | E15: برق و الکترونیک | F15: 20000172 | G15: فروشگاه قطعات 57 | H15: 1 | I15: 14874500 | J15: 10410900
... A1004: 1404/08/24 | B1004: F000495 | C1004: 100001023 | D1004: چراغ جلو | E1004: بدنه | F1004: 20000141 | G1004: فروشگاه قطعات 26 | H1004: 2 | I1004: 14232200 | J1004: 11920800

Sheet Sales
A1: تاریخ | B1: شماره فاکتور | C1: سال | D1: شماره ماه | E1: ماه | F1: فصل | G1: کد کالا | H1: نام کالا | I1: گروه کالا | J1: کد مشتری | K1: نام مشتری | L1: تعداد | M1: خالص ریالی | N1: بهای تمام‌شده
A2: 1405/01/27 | B2: F000001 | C2: 1405 | D2: 1 | E2: فروردین | F2: بهار | G2: 100001018 | H2: ترموستات | I2: خنک کاری | J2: 20000111 | K2: نمایندگی کرمان | L2: 6 | M2: 6618600 | N2: 5395000
A3: 1405/01/27 | B3: F000053 | C3: 1405 | D3: 1 | E3: فروردین | F3: بهار | G3: 100001017 | H3: رادیاتور | I3: خنک کاری | J3: 20000144 | K3: فروشگاه قطعات 29 | L3: 15 | M3: 121839000 | N3: 92460400
A4: 1405/01/27 | B4: F000053 | C4: 1405 | D4: 1 | E4: فروردین | F4: بهار | G4: 100001016 | H4: پمپ آب | I4: خنک کاری | J4: 20000144 | K4: فروشگاه قطعات 29 | L4: 4 | M4: 14875600 | N4: 11302100
A5: 1405/01/27 | B5: F000053 | C5: 1405 | D5: 1 | E5: فروردین | F5: بهار | G5: 100001024 | H5: چراغ عقب | I5: بدنه | J5: 20000144 | K5: فروشگاه قطعات 29 | L5: 5 | M5: 20626500 | N5: 17213100
A6: 1405/01/27 | B6: F000371 | C6: 1405 | D6: 1 | E6: فروردین | F6: بهار | G6: 100001026 | H6: سپر جلو | I6: بدنه | J6: 20000164 | K6: فروشگاه قطعات 49 | L6: 9 | M6: 72970200 | N6: 61477500
A7: 1405/01/27 | B7: F000371 | C7: 1405 | D7: 1 | E7: فروردین | F7: بهار | G7: 100001014 | H7: تسمه تایم | I7: موتور | J7: 20000164 | K7: فروشگاه قطعات 49 | L7: 3 | M7: 8333700 | N7: 5763000
A8: 1405/01/27 | B8: F000371 | C8: 1405 | D8: 1 | E8: فروردین | F8: بهار | G8: 100001024 | H8: چراغ عقب | I8: بدنه | J8: 20000164 | K8: فروشگاه قطعات 49 | L8: 1 | M8: 4696600 | N8: 3194900
A9: 1405/06/01 | B9: F000002 | C9: 1405 | D9: 6 | E9: شهریور | F9: تابستان | G9: 100001013 | H9: تسمه دینام | I9: موتور | J9: 20000133 | K9: فروشگاه قطعات 18 | L9: 10 | M9: 10042000 | N9: 7671200
A10: 1405/06/01 | B10: F000002 | C10: 1405 | D10: 6 | E10: شهریور | F10: تابستان | G10: 100001003 | H10: فیلتر سوخت | I10: فیلترها | J10: 20000133 | K10: فروشگاه قطعات 18 | L10: 2 | M10: 583400 | N10: 449700
A11: 1404/11/25 | B11: F000003 | C11: 1404 | D11: 11 | E11: بهمن | F11: زمستان | G11: 100001009 | H11: کمک فنر جلو | I11: تعلیق و فرمان | J11: 20000173 | K11: فروشگاه قطعات 58 | L11: 3 | M11: 15408000 | N11: 13266000
A12: 1405/03/19 | B12: F000004 | C12: 1405 | D12: 3 | E12: خرداد | F12: بهار | G12: 100001011 | H12: سیبک فرمان | I12: تعلیق و فرمان | J12: 20000104 | K12: نمایندگی شیراز | L12: 6 | M12: 8016600 | N12: 5518500
A13: 1405/03/19 | B13: F000004 | C13: 1405 | D13: 3 | E13: خرداد | F13: بهار | G13: 100001026 | H13: سپر جلو | I13: بدنه | J13: 20000104 | K13: نمایندگی شیراز | L13: 4 | M13: 32850800 | N13: 26515200
... A1002: 1405/06/27 | B1002: F000472 | C1002: 1405 | D1002: 6 | E1002: شهریور | F1002: تابستان | G1002: 100001029 | H1002: دیسک و صفحه | I1002: گیربکس | J1002: 20000140 | K1002: فروشگاه قطعات 25 | L1002: 3 | M1002: 37062300 | N1002: 26580600

Sheet تحلیل کالا
A1: کد کالا | B1: نام کالا | C1: گروه کالا | D1: فروش کل | E1: بهای تمام‌شده | F1: سود ناخالص | G1: تعداد فروش | H1: تعداد فاکتور | I1: تعداد مشتری | J1: آخرین فروش | K1: مارجین | L1: روز از آخرین فروش | M1: وضعیت فروش
A2: 100001021 | B2: دینام | C2: برق و الکترونیک | D2: 2214116500 | E2: 1735671500 | F2: 478445000 | G2: 167 | H2: 44 | I2: 34 | J2: 1405/06/31 | K2: 0.21608845 | L2: -2 | M2: فعال
A3: 100001029 | B3: دیسک و صفحه | C3: گیربکس | D3: 1431470400 | E3: 1118168900 | F3: 313301500 | G3: 125 | H3: 30 | I3: 27 | J3: 1405/06/27 | K3: 0.21886691 | L3: 2 | M3: فعال
A4: 100001028 | B4: کلاچ | C4: گیربکس | D4: 1395531000 | E4: 1085041800 | F4: 310489200 | G4: 143 | H4: 35 | I4: 29 | J4: 1405/06/26 | K4: 0.22248821 | L4: 3 | M4: فعال
A5: 100001022 | B5: استارت | C5: برق و الکترونیک | D5: 1316269100 | E5: 1016849800 | F5: 299419300 | G5: 111 | H5: 31 | I5: 24 | J5: 1405/06/20 | K5: 0.22747575 | L5: 9 | M5: فعال
A6: 100001017 | B6: رادیاتور | C6: خنک کاری | D6: 1107045300 | E6: 857453100 | F6: 249592200 | G6: 137 | H6: 30 | I6: 22 | J6: 1405/06/26 | K6: 0.22545798 | L6: 3 | M6: فعال
A7: 100001027 | B7: سپر عقب | C7: بدنه | D7: 982196600 | E7: 775821700 | F7: 206374900 | G7: 137 | H7: 35 | I7: 27 | J7: 1405/06/31 | K7: 0.21011567 | L7: -2 | M7: فعال
A8: 100001020 | B8: انژکتور | C8: موتور | D8: 904643400 | E8: 697714300 | F8: 206929100 | G8: 176 | H8: 45 | I8: 35 | J8: 1405/06/31 | K8: 0.22874107 | L8: -2 | M8: فعال
A9: 100001026 | B9: سپر جلو | C9: بدنه | D9: 903453400 | E9: 705007400 | F9: 198446000 | G9: 122 | H9: 28 | I9: 26 | J9: 1405/06/08 | K9: 0.21965272 | L9: 21 | M9: فعال
A10: 100001007 | B10: دیسک ترمز جلو | C10: ترمز | D10: 872838300 | E10: 686971800 | F10: 185866500 | G10: 204 | H10: 45 | I10: 37 | J10: 1405/06/29 | K10: 0.21294494 | L10: 0 | M10: فعال
A11: 100001030 | B11: پلوس | C11: گیربکس | D11: 832117200 | E11: 654654300 | F11: 177462900 | G11: 108 | H11: 32 | I11: 27 | J11: 1405/06/02 | K11: 0.21326671 | L11: 27 | M11: فعال
A12: 100001023 | B12: چراغ جلو | C12: بدنه | D12: 699375300 | E12: 564041200 | F12: 135334100 | G12: 100 | H12: 25 | I12: 20 | J12: 1405/06/30 | K12: 0.19350712 | L12: -1 | M12: فعال
A13: 100001024 | B13: چراغ عقب | C13: بدنه | D13: 673635200 | E13: 514737100 | F13: 158898100 | G13: 161 | H13: 36 | I13: 28 | J13: 1405/06/25 | K13: 0.23588153 | L13: 4 | M13: فعال
... A31: 100001001 | B31: فیلتر روغن | C31: فیلترها | D31: 19517600 | E31: 15150800 | F31: 4366800 | G31: 107 | H31: 28 | I31: 25 | J31: 1405/06/23 | K31: 0.22373652 | L31: 6 | M31: فعال

Sheet تحلیل مشتریان
A1: کد مشتری | B1: نام مشتری | C1: فروش کل | D1: بهای تمام‌شده | E1: سود ناخالص | F1: جمع تعداد | G1: تعداد فاکتور | H1: تعداد کالای خریداری‌شده | I1: اولین خرید | J1: آخرین خرید | K1: مارجین | L1: میانگین مبلغ فاکتور | M1: روز از آخرین خرید | N1: وضعیت مشتری
A2: 20000106 | B2: نمایندگی کرج | C2: 727025100 | D2: 578315100 | E2: 148710000 | F2: 137 | G2: 13 | H2: 20 | I2: 1404/07/28 | J2: 1405/06/19 | K2: 0.2045459 | L2: 55925008 | M2: 10 | N2: فعال
A3: 20000108 | B3: نمایندگی قم | C3: 631755400 | D3: 485516400 | E3: 146239000 | F3: 97 | G3: 10 | H3: 18 | I3: 1404/07/28 | J3: 1405/04/29 | K3: 0.23148041 | L3: 63175540 | M3: 62 | N3: در معرض ریزش
A4: 20000101 | B4: نمایندگی تهران مرکزی | C4: 571113400 | D4: 435082900 | E4: 136030500 | F4: 98 | G4: 10 | H4: 16 | I4: 1404/07/08 | J4: 1405/05/05 | K4: 0.23818475 | L4: 57111340 | M4: 55 | N4: در معرض ریزش
A5: 20000112 | B5: نمایندگی ساری | C5: 565079000 | D5: 433471300 | E5: 131607700 | F5: 102 | G5: 13 | H5: 18 | I5: 1404/08/01 | J5: 1405/06/06 | K5: 0.23290142 | L5: 43467615 | M5: 23 | N5: فعال
A6: 20000123 | B6: فروشگاه قطعات 08 | C6: 541899800 | D6: 413808500 | E6: 128091300 | F6: 134 | G6: 13 | H6: 19 | I6: 1404/07/09 | J6: 1405/06/29 | K6: 0.23637451 | L6: 41684600 | M6: 0 | N6: فعال
A7: 20000111 | B7: نمایندگی کرمان | C7: 533367400 | D7: 422222300 | E7: 111145100 | F7: 90 | G7: 14 | H7: 21 | I7: 1404/07/05 | J7: 1405/05/26 | K7: 0.20838375 | L7: 38097671 | M7: 34 | N7: در معرض ریزش
A8: 20000110 | B8: نمایندگی یزد | C8: 455345400 | D8: 362893000 | E8: 92452400 | F8: 90 | G8: 13 | H8: 17 | I8: 1404/07/18 | J8: 1405/06/16 | K8: 0.20303796 | L8: 35026569 | M8: 13 | N8: فعال
A9: 20000104 | B9: نمایندگی شیراز | C9: 407264100 | D9: 333356000 | E9: 73908100 | F9: 136 | G9: 13 | H9: 18 | I9: 1404/07/02 | J9: 1405/06/05 | K9: 0.18147463 | L9: 31328008 | M9: 24 | N9: فعال
A10: 20000164 | B10: فروشگاه قطعات 49 | C10: 403617900 | D10: 314954400 | E10: 88663500 | F10: 86 | G10: 8 | H10: 14 | I10: 1404/07/13 | J10: 1405/05/21 | K10: 0.21967187 | L10: 50452238 | M10: 39 | N10: در معرض ریزش
A11: 20000145 | B11: فروشگاه قطعات 30 | C11: 380873200 | D11: 292819200 | E11: 88054000 | F11: 62 | G11: 8 | H11: 12 | I11: 1404/09/19 | J11: 1405/06/31 | K11: 0.2311898 | L11: 47609150 | M11: -2 | N11: فعال
A12: 20000144 | B12: فروشگاه قطعات 29 | C12: 373733600 | D12: 296288100 | E12: 77445500 | F12: 66 | G12: 7 | H12: 12 | I12: 1404/07/24 | J12: 1405/06/22 | K12: 0.20722113 | L12: 53390514 | M12: 7 | N12: فعال
A13: 20000103 | B13: نمایندگی اصفهان | C13: 373443400 | D13: 301007000 | E13: 72436400 | F13: 98 | G13: 14 | H13: 20 | I13: 1404/07/30 | J13: 1405/06/30 | K13: 0.19396889 | L13: 26674529 | M13: -1 | N13: فعال
... A81: 20000156 | B81: فروشگاه قطعات 41 | C81: 14468300 | D81: 12195500 | E81: 2272800 | F81: 7 | G81: 2 | H81: 3 | I81: 1405/02/10 | J81: 1405/06/02 | K81: 0.15708826 | L81: 7234150 | M81: 27 | N81: فعال

Sheet آنالیز فروش
A1: سال | B1: شماره ماه | C1: ماه | D1: فصل | E1: فروش | F1: بهای تمام‌شده | G1: سود ناخالص | H1: تعداد | I1: تعداد فاکتور | J1: مشتریان فعال | K1: هدف فروش | L1: درصد تحقق | M1: مارجین | N1: میانگین مبلغ فاکتور | O1: فروش ماه قبل | P1: رشد ماهانه
A2: 1404 | B2: 7 | C2: مهر | D2: پاییز | E2: 1621682300 | F2: 1263399800 | G2: 358282500 | H2: 356 | I2: 43 | J2: 35 | K2: 1768745000 | L2: 0.91685478 | M2: 0.22093261 | N2: 37713542
A3: 1404 | B3: 8 | C3: آبان | D3: پاییز | E3: 1998617500 | F3: 1538740000 | G3: 459877500 | H3: 410 | I3: 50 | J3: 35 | K3: 1956596200 | L3: 1.0214767 | M3: 0.23009781 | N3: 39972350 | O3: 1621682300 | P3: 0.23243468
A4: 1404 | B4: 9 | C4: آذر | D4: پاییز | E4: 1642315300 | F4: 1303281800 | G4: 339033500 | H4: 329 | I4: 40 | J4: 31 | K4: 1774500000 | L4: 0.92550876 | M4: 0.2064363 | N4: 41057882 | O4: 1998617500 | P4: -0.17827433
A5: 1404 | B5: 10 | C5: دی | D5: زمستان | E5: 1601332300 | F5: 1243079500 | G5: 358252800 | H5: 357 | I5: 41 | J5: 34 | K5: 1739087000 | L5: 0.92078907 | M5: 0.22372171 | N5: 39056885 | O5: 1642315300 | P5: -0.024954404
A6: 1404 | B6: 11 | C6: بهمن | D6: زمستان | E6: 1199589300 | F6: 939711500 | G6: 259877800 | H6: 228 | I6: 28 | J6: 23 | K6: 1229287100 | L6: 0.97584145 | M6: 0.21663898 | N6: 42842475 | O6: 1601332300 | P6: -0.25088047
A7: 1404 | B7: 12 | C7: اسفند | D7: زمستان | E7: 1402969900 | F7: 1072740400 | G7: 330229500 | H7: 300 | I7: 46 | J7: 35 | K7: 1531467900 | L7: 0.91609488 | M7: 0.23537889 | N7: 30499346 | O7: 1199589300 | P7: 0.16954186
A8: 1405 | B8: 1 | C8: فروردین | D8: بهار | E8: 1312871400 | F8: 1038726800 | G8: 274144600 | H8: 291 | I8: 36 | J8: 28 | K8: 1274712400 | L8: 1.0299354 | M8: 0.20881299 | N8: 36468650 | O8: 1402969900 | P8: -0.064219838
A9: 1405 | B9: 2 | C9: اردیبهشت | D9: بهار | E9: 1591117200 | F9: 1235157800 | G9: 355959400 | H9: 403 | I9: 44 | J9: 36 | K9: 1533990700 | L9: 1.0372404 | M9: 0.22371664 | N9: 36161755 | O9: 1312871400 | P9: 0.21193683
A10: 1405 | B10: 3 | C10: خرداد | D10: بهار | E10: 1584259900 | F10: 1235492300 | G10: 348767600 | H10: 337 | I10: 45 | J10: 34 | K10: 1659146200 | L10: 0.95486456 | M10: 0.22014544 | N10: 35205776 | O10: 1591117200 | P10: -0.0043097391
A11: 1405 | B11: 4 | C11: تیر | D11: تابستان | E11: 1395050500 | F11: 1103083900 | G11: 291966600 | H11: 285 | I11: 48 | J11: 32 | K11: 1388671000 | L11: 1.004594 | M11: 0.20928748 | N11: 29063552 | O11: 1584259900 | P11: -0.11943078
A12: 1405 | B12: 5 | C12: مرداد | D12: تابستان | E12: 1468509300 | F12: 1170911200 | G12: 297598100 | H12: 298 | I12: 38 | J12: 28 | K12: 1452764600 | L12: 1.0108378 | M12: 0.20265319 | N12: 38644982 | O12: 1395050500 | P12: 0.052656732
A13: 1405 | B13: 6 | C13: شهریور | D13: تابستان | E13: 1429215600 | F13: 1099136200 | G13: 330079400 | H13: 315 | I13: 36 | J13: 33 | K13: 1563181600 | L13: 0.91429914 | M13: 0.23095144 | N13: 39700433 | O13: 1468509300 | P13: -0.026757542

Sheet آخرین فروش
A1: کد مشتری | B1: نام مشتری | C1: تعداد فاکتور | D1: اولین خرید | E1: آخرین خرید | F1: روز از آخرین خرید | G1: جمع تعداد | H1: فروش کل | I1: وضعیت مشتری | J1: اقدام پیشنهادی
A2: 20000106 | B2: نمایندگی کرج | C2: 13 | D2: 1404/07/28 | E2: 1405/06/19 | F2: 10 | G2: 137 | H2: 727025100 | I2: فعال | J2: حفظ و توسعه
A3: 20000108 | B3: نمایندگی قم | C3: 10 | D3: 1404/07/28 | E3: 1405/04/29 | F3: 62 | G3: 97 | H3: 631755400 | I3: در معرض ریزش | J3: پیگیری فوری
A4: 20000101 | B4: نمایندگی تهران مرکزی | C4: 10 | D4: 1404/07/08 | E4: 1405/05/05 | F4: 55 | G4: 98 | H4: 571113400 | I4: در معرض ریزش | J4: پیگیری فوری
A5: 20000112 | B5: نمایندگی ساری | C5: 13 | D5: 1404/08/01 | E5: 1405/06/06 | F5: 23 | G5: 102 | H5: 565079000 | I5: فعال | J5: حفظ و توسعه
A6: 20000123 | B6: فروشگاه قطعات 08 | C6: 13 | D6: 1404/07/09 | E6: 1405/06/29 | F6: 0 | G6: 134 | H6: 541899800 | I6: فعال | J6: حفظ و توسعه
A7: 20000111 | B7: نمایندگی کرمان | C7: 14 | D7: 1404/07/05 | E7: 1405/05/26 | F7: 34 | G7: 90 | H7: 533367400 | I7: در معرض ریزش | J7: پیگیری فوری
A8: 20000110 | B8: نمایندگی یزد | C8: 13 | D8: 1404/07/18 | E8: 1405/06/16 | F8: 13 | G8: 90 | H8: 455345400 | I8: فعال | J8: حفظ و توسعه
A9: 20000104 | B9: نمایندگی شیراز | C9: 13 | D9: 1404/07/02 | E9: 1405/06/05 | F9: 24 | G9: 136 | H9: 407264100 | I9: فعال | J9: حفظ و توسعه
A10: 20000164 | B10: فروشگاه قطعات 49 | C10: 8 | D10: 1404/07/13 | E10: 1405/05/21 | F10: 39 | G10: 86 | H10: 403617900 | I10: در معرض ریزش | J10: پیگیری فوری
A11: 20000145 | B11: فروشگاه قطعات 30 | C11: 8 | D11: 1404/09/19 | E11: 1405/06/31 | F11: -2 | G11: 62 | H11: 380873200 | I11: فعال | J11: حفظ و توسعه
A12: 20000144 | B12: فروشگاه قطعات 29 | C12: 7 | D12: 1404/07/24 | E12: 1405/06/22 | F12: 7 | G12: 66 | H12: 373733600 | I12: فعال | J12: حفظ و توسعه
A13: 20000103 | B13: نمایندگی اصفهان | C13: 14 | D13: 1404/07/30 | E13: 1405/06/30 | F13: -1 | G13: 98 | H13: 373443400 | I13: فعال | J13: حفظ و توسعه
... A81: 20000156 | B81: فروشگاه قطعات 41 | C81: 2 | D81: 1405/02/10 | E81: 1405/06/02 | F81: 27 | G81: 7 | H81: 14468300 | I81: فعال | J81: حفظ و توسعه

Sheet RFM آنالیز
A1: کد مشتری | B1: نام مشتری | C1: تازگی خرید (روز) | D1: تعداد فاکتور | E1: ارزش خرید | F1: امتیاز R | G1: امتیاز F | H1: امتیاز M | I1: امتیاز RFM | J1: کد RFM | K1: بخش مشتری | L1: اولویت اقدام
A2: 20000123 | B2: فروشگاه قطعات 08 | C2: 0 | D2: 13 | E2: 541899800 | F2: 5 | G2: 5 | H2: 5 | I2: 15 | J2: 555 | K2: مشتریان طلایی | L2: حفظ و توسعه
A3: 20000103 | B3: نمایندگی اصفهان | C3: -1 | D3: 14 | E3: 373443400 | F3: 5 | G3: 5 | H3: 5 | I3: 15 | J3: 555 | K3: مشتریان طلایی | L3: حفظ و توسعه
A4: 20000106 | B4: نمایندگی کرج | C4: 10 | D4: 13 | E4: 727025100 | F4: 4 | G4: 5 | H4: 5 | I4: 14 | J4: 455 | K4: مشتریان طلایی | L4: حفظ و توسعه
A5: 20000112 | B5: نمایندگی ساری | C5: 23 | D5: 13 | E5: 565079000 | F5: 4 | G5: 5 | H5: 5 | I5: 14 | J5: 455 | K5: مشتریان طلایی | L5: حفظ و توسعه
A6: 20000110 | B6: نمایندگی یزد | C6: 13 | D6: 13 | E6: 455345400 | F6: 4 | G6: 5 | H6: 5 | I6: 14 | J6: 455 | K6: مشتریان طلایی | L6: حفظ و توسعه
A7: 20000104 | B7: نمایندگی شیراز | C7: 24 | D7: 13 | E7: 407264100 | F7: 4 | G7: 5 | H7: 5 | I7: 14 | J7: 455 | K7: مشتریان طلایی | L7: حفظ و توسعه
A8: 20000145 | B8: فروشگاه قطعات 30 | C8: -2 | D8: 8 | E8: 380873200 | F8: 5 | G8: 4 | H8: 5 | I8: 14 | J8: 545 | K8: مشتریان طلایی | L8: حفظ و توسعه
A9: 20000144 | B9: فروشگاه قطعات 29 | C9: 7 | D9: 7 | E9: 373733600 | F9: 5 | G9: 4 | H9: 5 | I9: 14 | J9: 545 | K9: مشتریان طلایی | L9: حفظ و توسعه
A10: 20000115 | B10: نمایندگی زنجان | C10: 4 | D10: 8 | E10: 345584900 | F10: 5 | G10: 4 | H10: 5 | I10: 14 | J10: 545 | K10: مشتریان طلایی | L10: حفظ و توسعه
A11: 20000109 | B11: نمایندگی رشت | C11: 6 | D11: 11 | E11: 300544600 | F11: 5 | G11: 5 | H11: 4 | I11: 14 | J11: 554 | K11: مشتریان طلایی | L11: حفظ و توسعه
A12: 20000101 | B12: نمایندگی تهران مرکزی | C12: 55 | D12: 10 | E12: 571113400 | F12: 3 | G12: 5 | H12: 5 | I12: 13 | J12: 355 | K12: مشتریان بالقوه وفادار | L12: افزایش تکرار خرید
A13: 20000111 | B13: نمایندگی کرمان | C13: 34 | D13: 14 | E13: 533367400 | F13: 3 | G13: 5 | H13: 5 | I13: 13 | J13: 355 | K13: مشتریان بالقوه وفادار | L13: افزایش تکرار خرید
... A81: 20000160 | B81: فروشگاه قطعات 45 | C81: 302 | D81: 2 | E81: 16108400 | F81: 1 | G81: 1 | H81: 1 | I81: 3 | J81: 111 | K81: مشتریان غیرفعال | L81: کمپین بازگشت

Sheet Sheet1
B2: فروش کل: | C2: =SUM(tblCustomerAnalysis[فروش کل]) -> 18247530500 | E2: تعداد مشتریان در معرض ریزش | F2: =COUNTIF(tblRFM[بخش مشتری],"در معرض ریزش") -> 7
B4: تعداد مشتری: | C4: =ROWS(tblCustomerAnalysis[کد مشتری]) -> 80 | E4: مشتریان طلایی | F4: =COUNTIF(tblRFM[بخش مشتری],"مشتریان طلایی") -> 15
B6: مشتری فعال: | C6: =COUNTIF(tblCustomerAnalysis[وضعیت مشتری],"فعال") -> 35 | E6: مشتریان ارزشمند در معرض ریزش | F6: =COUNTIF(tblRFM[بخش مشتری],"مشتریان ارزشمند در معرض ریزش") -> 3
B8: مشتری در معرض ریزش: | C8: =COUNTIF(tblCustomerAnalysis[وضعیت مشتری],"در معرض ریزش") -> 26
B10: مشتری غیرفعال: | C10: =COUNTIF(tblCustomerAnalysis[وضعیت مشتری],"غیرفعال") -> 19
B12: تعداد فاکتور: | C12: =SUM(tblSalesAnalysis[تعداد فاکتور]) -> 1000
B14: میانگین مبلغ فاکتور: | C14: =SUM(tblSalesAnalysis[فروش کل])/SUM(tblSalesAnalysis[تعداد فاکتور]) -> 18247530

Sheet PivotData
B1: فروش کل | C1: تعداد فاکتور | D1: تعداد مشتری | E1: تعداد کالا | F1: تعداد فروش | G1: بهای تمام شده | H1: سود ناخالص | I1: مارجین | J1: میانگین مبلغ فاکتور
B2: =GETPIVOTDATA("[Measures].[Total Sales]",$B$3) -> 18247530500 | C2: =GETPIVOTDATA("[Measures].[Invoice Count]",$B$3) -> 495 | D2: =GETPIVOTDATA("[Measures].[Customer Count]",$B$3) -> 80 | E2: =GETPIVOTDATA("[Measures].[Product Count]",$B$3) -> 30 | F2: =GETPIVOTDATA("[Measures].[Total Qty]",$B$3) -> 3909 | G2: =GETPIVOTDATA("[Measures].[Total Cost]",$B$3) -> 14243461200 | H2: =GETPIVOTDATA("[Measures].[Gross Profit]",$B$3) -> 4004069300 | I2: =GETPIVOTDATA("[Measures].[Gross Margin %]",$B$3) -> 0.21943075 | J2: =GETPIVOTDATA("[Measures].[Average Invoice]",$B$3) -> 36863698
B3: Total Sales | C3: Invoice Count | D3: Customer Count | E3: Product Count | F3: Total Qty | G3: Total Cost | H3: Gross Profit | I3: Gross Margin % | J3: Average Invoice
B4: 18247530500 | C4: 495 | D4: 80 | E4: 30 | F4: 3909 | G4: 14243461200 | H4: 4004069300 | I4: 0.21943075 | J4: 36863698
T6: بخش مشتری | U6: مشتریان ارزشمند در معرض ریزش
P8: Row Labels | Q8: Count of کد مشتری | T8: Row Labels | U8: Sum of تازگی خرید (روز) | V8: Sum of ارزش خرید
P9: مشتریان غیرفعال | Q9: 21 | T9: نمایندگی قم | U9: 62 | V9: 631755400
P10: مشتریان طلایی | Q10: 15 | T10: فروشگاه قطعات 53 | U10: 119 | V10: 321652000
P11: مشتریان جدید | Q11: 11 | T11: نمایندگی همدان | U11: 77 | V11: 315154600
P12: مشتریان عادی | Q12: 10
B13: Row Labels | C13: Total Sales | H13: Row Labels | I13: Total Sales | K13: Row Labels | L13: Total Sales | P13: مشتریان بالقوه وفادار | Q13: 7
B14: 1404 | H14: فروشگاه قطعات 30 | I14: 380873200 | K14: پلوس | L14: 832117200 | P14: در معرض ریزش | Q14: 7
B15: 7 | H15: فروشگاه قطعات 49 | I15: 403617900 | K15: دیسک ترمز جلو | L15: 872838300 | P15: مشتریان وفادار | Q15: 6
B16: مهر | C16: 1621682300 | H16: نمایندگی شیراز | I16: 407264100 | K16: سپر جلو | L16: 903453400 | P16: مشتریان ارزشمند در معرض ریزش | Q16: 3
B17: 8 | H17: نمایندگی یزد | I17: 455345400 | K17: انژکتور | L17: 904643400 | P17: Grand Total | Q17: 80
B18: آبان | C18: 1998617500 | H18: نمایندگی کرمان | I18: 533367400 | K18: سپر عقب | L18: 982196600
B19: 9 | H19: فروشگاه قطعات 08 | I19: 541899800 | K19: رادیاتور | L19: 1107045300
B20: آذر | C20: 1642315300 | H20: نمایندگی ساری | I20: 565079000 | K20: استارت | L20: 1316269100
B21: 10 | H21: نمایندگی تهران مرکزی | I21: 571113400 | K21: کلاچ | L21: 1395531000
B22: دی | C22: 1601332300 | H22: نمایندگی قم | I22: 631755400 | K22: دیسک و صفحه | L22: 1431470400
B23: 11 | H23: نمایندگی کرج | I23: 727025100 | K23: دینام | L23: 2214116500
B24: بهمن | C24: 1199589300 | H24: Grand Total | I24: 5217340700 | K24: Grand Total | L24: 11959681200
B25: 12
B26: اسفند | C26: 1402969900
B27: 1405
B28: 1
B29: فروردین | C29: 1312871400
B30: 2
B31: اردیبهشت | C31: 1591117200
B32: 3
B33: خرداد | C33: 1584259900
B34: 4 | I34: =GETPIVOTDATA("[Measures].[Target Achievement %]",$H$35) -> 0.96690259
B35: تیر | C35: 1395050500 | H35: Row Labels | I35: Target Achievement % | J35: Total Sales | K35: Sales Target
B36: 5 | H36: 1404/10/01 | I36: 0.92078907 | J36: 1601332300 | K36: 1739087000
B37: مرداد | C37: 1468509300 | H37: 1404/11/01 | I37: 0.97584145 | J37: 1199589300 | K37: 1229287100
B38: 6 | H38: 1404/12/01 | I38: 0.91609488 | J38: 1402969900 | K38: 1531467900
B39: شهریور | C39: 1429215600 | H39: 1404/7/01 | I39: 0.91685478 | J39: 1621682300 | K39: 1768745000
B40: Grand Total | C40: 18247530500 | H40: 1404/8/01 | I40: 1.0214767 | J40: 1998617500 | K40: 1956596200
H41: 1404/9/01 | I41: 0.92550876 | J41: 1642315300 | K41: 1774500000
H42: 1405/1/01 | I42: 1.0299354 | J42: 1312871400 | K42: 1274712400
...

Sheet داشبورد
I32: مشتریان نیازمند پیگیری
I33: نام نمایندگی | J33: تازگی خرید (روز) | K33: ارزش خرید | L33: تاریخ آخرین خرید
I34: =IF(PivotData!T9="","",PivotData!T9) -> نمایندگی قم | J34: =IF(PivotData!U9="","",PivotData!U9) -> 62 | K34: =IF(PivotData!V9="","",PivotData!V9) -> 631755400 | L34: =_xlfn.XLOOKUP(I34,'تحلیل مشتریان'!B:B,'تحلیل مشتریان'!J:J,"") -> 1405/04/29
I35: =IF(PivotData!T10="","",PivotData!T10) -> فروشگاه قطعات 53 | J35: =IF(PivotData!U10="","",PivotData!U10) -> 119 | K35: =IF(PivotData!V10="","",PivotData!V10) -> 321652000 | L35: =_xlfn.XLOOKUP(I35,'تحلیل مشتریان'!B:B,'تحلیل مشتریان'!J:J,"") -> 1405/03/03
I36: =IF(PivotData!T11="","",PivotData!T11) -> نمایندگی همدان | J36: =IF(PivotData!U11="","",PivotData!U11) -> 77 | K36: =IF(PivotData!V11="","",PivotData!V11) -> 315154600 | L36: =_xlfn.XLOOKUP(I36,'تحلیل مشتریان'!B:B,'تحلیل مشتریان'!J:J,"") -> 1405/04/14
I37: =IF(PivotData!T12="","",PivotData!T12) | J37: =IF(PivotData!U12="","",PivotData!U12) | K37: =IF(PivotData!V12="","",PivotData!V12) | L37: =_xlfn.XLOOKUP(I37,'تحلیل مشتریان'!B:B,'تحلیل مشتریان'!J:J,"")
I38: =IF(PivotData!T13="","",PivotData!T13) | J38: =IF(PivotData!U13="","",PivotData!U13) | K38: =IF(PivotData!V13="","",PivotData!V13) | L38: =_xlfn.XLOOKUP(I38,'تحلیل مشتریان'!B:B,'تحلیل مشتریان'!J:J,"")
I39: =IF(PivotData!T14="","",PivotData!T14) | J39: =IF(PivotData!U14="","",PivotData!U14) | K39: =IF(PivotData!V14="","",PivotData!V14) | L39: =_xlfn.XLOOKUP(I39,'تحلیل مشتریان'!B:B,'تحلیل مشتریان'!J:J,"")
I40: مجموع | K40: =SUBTOTAL(9,Table4[ارزش خرید]) -> 1268562000
